BEGIN:VCALENDAR
VERSION:2.0
PRODID:-//WelpIcalBundle//Calendar App//NL
CALSCALE:GREGORIAN
METHOD:PUBLISH
BEGIN:VTIMEZONE
TZID:Europe/Amsterdam
BEGIN:STANDARD
DTSTART:19691231T230000
TZOFFSETTO:+0100
TZOFFSETFROM:+0100
END:STANDARD
END:VTIMEZONE
BEGIN:VEVENT
UID:
DTSTART:20251005T093000
DTEND:20251005T160000
STATUS:
SUMMARY:Nascholingsworkshop Wolvilt als therapeutisch middel bij hecht
 ingsproblematiek in de beeldende therapie door Marijke de Vries accred
 itatie
DESCRIPTION:<p> .</p>
DTSTAMP:20260420T091118Z
END:VEVENT
END:VCALENDAR
